Workbook

Sheet Report_Comment
G2: Inspection Report
A4: General Information
A5: Report No : | C5: =M8&"_"&J8&"_"&O6 -> 8-015-26-00151_04008449_1 | E5: Inspector : | G5: Fanny Chen | I5: Inspection Date : | J5: 46160 | L5: Inspection Type : | M5: First Final
A6: Customer : | C6: Thomas Philipps Far East Ltd. | I6: Brand/Shipt to : | J6: Thomas Philipps Far East Ltd. | N6: Lot: | O6: 1
A7: Vendor Name : | C7: Yangjiang Jie Sha Trading Co., Ltd. | I7: Factory Name : | J7: Yangjiang Jie Sha Trading Co., Ltd.
A8: Product Description: | C8: Schrankkorb 40.5 x 25.5 x 14.0 cm verchromt | I8: Item No : | J8: 04008449 | L8: PO No : | M8: 8-015-26-00151
A9: Order Quantity : | C9: 3000 | D9: Pcs | E9: Order Carton : | G9: 300 | H9: Ctn | I9: Inspect Size : | J9: 3000 | K9: Pcs | L9: Inspect Carton : | M9: 300 | O9: Ctn
A10: Inspection Carton No : | C10: 1 To 300 | E10: Carton Size : | G10: 45x32x21 | H10: CM | I10: Gross Weight : | J10: 4.6 | K10: KGS | L10: Net Weight : | M10: 4.1 | O10: KGS
A12: General Inspection Level : | C12: Level 2 | D12: AQL Standard : | F12: CRITICAL - 0.065 , MAJOR - 1.5 , MINOR - 4.0 | K12: Inpection Sample Size : | L12: Inpection Sample Size : | M12: 125 | O12: Pcs
A14: Inspection Detail | M14: CRI | N14: MAJ | O14: MIN
A15: Checkpoint ( Carton/Packing/Product ) | C15: Sample Size | D15: Description of Defects / Findings & Comments | L15: AQL ACC | M15: 0 | N15: 5 | O15: 10
A16: 1 | B16: Carton | C16: 18 | D16: Nil
A17: 2 | B17: Function and Aesthetic | C17: 125 | D17: Nil
A18: 3 | B18: Workmanship | C18: 125 | D18: Weld spatter and flash | N18: 3 | O18: 5
A19: 4 | D19: scratched mark | O19: 1
A20: 5 | D20: poor electroplating on surface | N20: 1 | O20: 3
A21: 6
L23: Total : | M23: =SUBTOTAL(9,M16:M22) -> 0 | N23: =SUBTOTAL(9,N16:N22) -> 4 | O23: =SUBTOTAL(9,O16:O22) -> 9
A25: Checkpoint ( Physical Test ) | C25: Sample Size | D25: Description of Defects / Findings & Comments | N25: Result
A26: 1 | B26: Barcode Readability Check | C26: 5 | D26: Nil | N26: Pass
A27: 2 | B27: Product measurement | C27: 5 | D27: Nil | N27: Pass
A28: 3 | B28: Function and Assembly Test | C28: 3 | D28: Nil | N28: Pass
A29: 4 | B29: Loading check (10kg stated weight) | C29: 3 | D29: Nil | N29: Pass
A30: 5
A31: 6
A32: 7
A33: 8
A34: 9
A35: 10
A37: Additonal Information | C37: Findings & Comment | H37: Additonal Information | K37: Findings & Comment
A38: 1 | B38: EAN No | C38: 2004008 449005 | H38: 2 | I38: PI Number | K38: 8-015-26-00151
A39: 3 | B39: Product Date code | C39: No | H39: 4 | I39: Sign Sample Date | K39: No
A40: 5 | B40: UPC Printed | C40: UPC printed on hangtag | H40: 6 | I40: Outer carton | K40: Outer carton with glue
A41: 7 | B41: Made in China | C41: No "made in China" on product and outer carton
A42: 8 | B42: Packing Method | C42: 1. 10 pcs was packed into a 5-ply corrugated cover.
A44: 9
A47: Inspection Result
A48: PENDING | C48: Comments
A49: {=_xlfn.IFS(A48="REJECTED","Reason of Rejected",A48="PENDING","Reason of Pending",A48="REJECTED & PENDING","Reason of Pending",A48="ACCEPTED","")} -> Reason of Pending
A50: 1 | B50: The factory has no approved sample by the customer for reference.
A51: 2
A52: 3
A53: 4
A54: 5
A55: 6
A56: {=_xlfn.IFS(A48="REJECTED","",A48="PENDING","",A48="REJECTED & PENDING","Reason of Rejected",A48="ACCEPTED","")}
A57: 1
A58: 2
A59: 3
A60: 4
A61: 5
A62: 6
B64: Vendor Inspector Name : | G64: Fanny Chen | J64: Date : | K64: 46160
B65: {=_xlfn.IFS(B64="TPFE Inspector Name & Signature :","Vendor Incharge Name :",B64="Vendor Inspector Name :","Vendor Incharge Signature & Company Chop :")} -> Vendor Incharge Signature & Company Chop : | J65: =IF(B64="Vendor Inspector Name :","","Date :")
B66: =IF(B65="Vendor Incharge Name :","Vendor Incharge Signature & Company Chop :","")
A70: Final Inspection Result
A71: ACCEPTED
A72: ** For Thomas Philipps use only | D72: Confirmed by : | J72: Date :
C73: TPFE Incharge Name & Signature : | J73: Date :
C74: Vendor Incharge Name : | J74: Date :
B75: Vendor Incharge Signature & Company Chop :
A78: Inspection Disclaimer
A79: 1 | B79: Since Inspection Have Been Done On A Sampling Base, THOMAS-PHILIPPS Reserves The Rights To Claim Against Supplier Under Any Unreasonably
B80: High Percentage Of Defected Units That May Be Found In Future
A81: 2 | B81: Shipment Have Been Accepted Under Guarantee , Supplier Is Still Accountable For Any Rejectd Costing Incurred At Destination

Sheet Report_Photo
E2: Inspection Report
A4: Report No : | C4: =Report_Comment!C5 -> 8-015-26-00151_04008449_1 | E4: Item No : | F4: =Report_Comment!J8 -> 04008449 | G4: PO No : | H4: =Report_Comment!M8 -> 8-015-26-00151 | J4: Order Quantity : | K4: =Report_Comment!C9 -> 3000 | L4: Pcs
A5: Customer : | C5: =Report_Comment!C6 -> Thomas Philipps Far East Ltd. | G5: Brand/Shipt to : | H5: =Report_Comment!J6 -> Thomas Philipps Far East Ltd.
A6: Vendor Name : | C6: =Report_Comment!C7 -> Yangjiang Jie Sha Trading Co., Ltd. | G6: Factory Name : | H6: =Report_Comment!J7 -> Yangjiang Jie Sha Trading Co., Ltd.
A7: Product Description: | C7: =Report_Comment!C8 -> Schrankkorb 40.5 x 25.5 x 14.0 cm verchromt | G7: Inspect Size : | H7: =Report_Comment!J9 -> 3000 | I7: Pcs | J7: Inspect Carton : | K7: =Report_Comment!M9 -> 300 | L7: Ctn
A9: Inspection Detail Photo
A10: Checkpoint ( Carton/Packing/Product ) | C10: Photo of Defects / Findings & Comments
A11: 1 | B11: =Report_Comment!B16 -> Carton | C11: =Report_Comment!D16 -> Nil
A12: 2 | B12: =Report_Comment!B17 -> Function and Aesthetic | C12: Nil
A13: 3 | B13: Visual check | C13: Weld spatter and flash
A14: 4 | B14: Visual check | C14: scratched mark
A15: 5 | B15: Visual check | C15: poor electroplating on surface
A16: 6 | B16: =Report_Comment!B21 -> 0 | C16: =Report_Comment!D21 -> 0
A17: 7 | B17: =Report_Comment!B22 -> 0 | C17: =Report_Comment!D22 -> 0
A19: Production Photo
A20: Type of Photo | C20: Product Photo
A21: 1 | B21: Carton
A22: 2 | B22: Product
B23: Size
A27: Crucial Defectives List
A28: {=_xlfn.IFS(Report_Comment!A48="REJECTED","Reason of Rejected",Report_Comment!A48="PENDING","Reason of Pending",Report_Comment!A48="REJECTED & PENDING","Reason of Pending",Report_Comment!A48="ACCEPTED","")} -> Reason of Pending | D28: {=_xlfn.IFS(A28="Reason of Rejected","Photo of Defects / Findings & Comments",A28="Reason of Pending","Photo of Defects / Findings & Comments",A28="","")} -> Photo of Defects / Findings & Comments
A29: 1 | B29: =Report_Comment!B50 -> The factory has no approved sample by the customer for reference.
A30: 2 | B30: =Report_Comment!B51 -> 0
A31: 3 | B31: =Report_Comment!B52 -> 0
A32: 4
A33: 5
A34: {=_xlfn.IFS(Report_Comment!A48="REJECTED","",Report_Comment!A48="PENDING","",Report_Comment!A48="REJECTED & PENDING","Reason of Rejected",Report_Comment!A48="ACCEPTED","")} | D34: {=_xlfn.IFS(A34="Reason of Rejected","Photo of Defects / Findings & Comments",A34="Reason of Pending","Photo of Defects / Findings & Comments",A34="","")}
A35: 1 | B35: =Report_Comment!B57 -> 0
A36: 2 | B36: =#REF! -> #REF!
A37: 3 | B37: =#REF! -> #REF!
A38: 4
A39: 5
A40: 6

Sheet Packing Weight
E2: Inspection Report
A4: Report No : | C4: =Report_Comment!C5 -> 8-015-26-00151_04008449_1 | E4: Item No : | F4: =Report_Comment!J8 -> 04008449 | G4: PO No : | H4: =Report_Comment!M8 -> 8-015-26-00151 | J4: Order Quantity : | K4: =Report_Comment!C9 -> 3000 | L4: Pcs
A5: Customer : | C5: =Report_Comment!C6 -> Thomas Philipps Far East Ltd. | G5: Brand/Shipt to : | H5: =Report_Comment!J6 -> Thomas Philipps Far East Ltd.
A6: Vendor Name : | C6: =Report_Comment!C7 -> Yangjiang Jie Sha Trading Co., Ltd. | G6: Factory Name : | H6: =Report_Comment!J7 -> Yangjiang Jie Sha Trading Co., Ltd.
A7: Product Description: | C7: =Report_Comment!C8 -> Schrankkorb 40.5 x 25.5 x 14.0 cm verchromt | G7: Inspect Size : | H7: =Report_Comment!J9 -> 3000 | I7: Pcs | J7: Inspect Carton : | K7: =Report_Comment!M9 -> 300 | L7: Ctn
A9: Packing Weight
A10: Photo Detail
A11: #VALUE!
A12: #VALUE!
A13: #VALUE!
A14: #VALUE!
A15: #VALUE!
A16: #VALUE!
